Workbook

Sheet Cover
B2: Bartr Collection Tracker
B4: Free template from bartr.cards. Keep your card identities and entered values together.
B6: At a glance
B7: Copies owned | C7: =Summary!C6 -> 11
B8: Total value | C8: =Summary!C8 -> 3082
B9: Entered value less cost | C9: =Summary!C9 -> 1151
B10: Difference / cost | C10: =Summary!C10 -> 0.59606422
B12: Sheets
B13: Collection | C13: Exact identity, quantity, cost and entered value. Record source and date in Notes.
B14: Summary | C14: Totals for your entered rows. Add set names to the summary when needed.
B16: How to use it
B17: - Type only in the blue columns. Black columns calculate themselves; green cells read other sheets.
B18: Update entered values only after checking the exact printing and grade.
B19: Blank starter with 20 prepared rows. Extend formulas and summary ranges for more cards.
B20: Check results in your spreadsheet app before using them at a table.

Sheet Collection
B2: Collection Tracker
B3: Enter exact identities and verified values. Record source and date in Notes. Difference = value less cost.
B5: Card Name | C5: Set | D5: Number | E5: Grade | F5: Variant | G5: Qty | H5: Purchase Price ($) | I5: Entered Value ($) | J5: Total Cost ($) | K5: Total Value ($) | L5: Diff ($) | M5: Diff / Cost % | N5: Acquired | O5: Notes
J6: =IF(B6="","",IF(AND(ISNUMBER(G6),G6>0,ISNUMBER(H6),H6>=0),G6*H6,"Missing cost")) | K6: =IF(B6="","",IF(AND(ISNUMBER(G6),G6>0,ISNUMBER(I6),I6>0),G6*I6,"Missing value")) | L6: =IF(B6="","",IF(AND(ISNUMBER(J6),ISNUMBER(K6)),K6-J6,"Missing inputs")) | M6: =IF(AND(ISNUMBER(J6),ISNUMBER(L6)),IF(J6=0,"",L6/J6),"")
J7: =IF(B7="","",IF(AND(ISNUMBER(G7),G7>0,ISNUMBER(H7),H7>=0),G7*H7,"Missing cost")) | K7: =IF(B7="","",IF(AND(ISNUMBER(G7),G7>0,ISNUMBER(I7),I7>0),G7*I7,"Missing value")) | L7: =IF(B7="","",IF(AND(ISNUMBER(J7),ISNUMBER(K7)),K7-J7,"Missing inputs")) | M7: =IF(AND(ISNUMBER(J7),ISNUMBER(L7)),IF(J7=0,"",L7/J7),"")
J8: =IF(B8="","",IF(AND(ISNUMBER(G8),G8>0,ISNUMBER(H8),H8>=0),G8*H8,"Missing cost")) | K8: =IF(B8="","",IF(AND(ISNUMBER(G8),G8>0,ISNUMBER(I8),I8>0),G8*I8,"Missing value")) | L8: =IF(B8="","",IF(AND(ISNUMBER(J8),ISNUMBER(K8)),K8-J8,"Missing inputs")) | M8: =IF(AND(ISNUMBER(J8),ISNUMBER(L8)),IF(J8=0,"",L8/J8),"")
J9: =IF(B9="","",IF(AND(ISNUMBER(G9),G9>0,ISNUMBER(H9),H9>=0),G9*H9,"Missing cost")) | K9: =IF(B9="","",IF(AND(ISNUMBER(G9),G9>0,ISNUMBER(I9),I9>0),G9*I9,"Missing value")) | L9: =IF(B9="","",IF(AND(ISNUMBER(J9),ISNUMBER(K9)),K9-J9,"Missing inputs")) | M9: =IF(AND(ISNUMBER(J9),ISNUMBER(L9)),IF(J9=0,"",L9/J9),"")
J10: =IF(B10="","",IF(AND(ISNUMBER(G10),G10>0,ISNUMBER(H10),H10>=0),G10*H10,"Missing cost")) | K10: =IF(B10="","",IF(AND(ISNUMBER(G10),G10>0,ISNUMBER(I10),I10>0),G10*I10,"Missing value")) | L10: =IF(B10="","",IF(AND(ISNUMBER(J10),ISNUMBER(K10)),K10-J10,"Missing inputs")) | M10: =IF(AND(ISNUMBER(J10),ISNUMBER(L10)),IF(J10=0,"",L10/J10),"")
J11: =IF(B11="","",IF(AND(ISNUMBER(G11),G11>0,ISNUMBER(H11),H11>=0),G11*H11,"Missing cost")) | K11: =IF(B11="","",IF(AND(ISNUMBER(G11),G11>0,ISNUMBER(I11),I11>0),G11*I11,"Missing value")) | L11: =IF(B11="","",IF(AND(ISNUMBER(J11),ISNUMBER(K11)),K11-J11,"Missing inputs")) | M11: =IF(AND(ISNUMBER(J11),ISNUMBER(L11)),IF(J11=0,"",L11/J11),"")
J12: =IF(B12="","",IF(AND(ISNUMBER(G12),G12>0,ISNUMBER(H12),H12>=0),G12*H12,"Missing cost")) | K12: =IF(B12="","",IF(AND(ISNUMBER(G12),G12>0,ISNUMBER(I12),I12>0),G12*I12,"Missing value")) | L12: =IF(B12="","",IF(AND(ISNUMBER(J12),ISNUMBER(K12)),K12-J12,"Missing inputs")) | M12: =IF(AND(ISNUMBER(J12),ISNUMBER(L12)),IF(J12=0,"",L12/J12),"")
J13: =IF(B13="","",IF(AND(ISNUMBER(G13),G13>0,ISNUMBER(H13),H13>=0),G13*H13,"Missing cost")) | K13: =IF(B13="","",IF(AND(ISNUMBER(G13),G13>0,ISNUMBER(I13),I13>0),G13*I13,"Missing value")) | L13: =IF(B13="","",IF(AND(ISNUMBER(J13),ISNUMBER(K13)),K13-J13,"Missing inputs")) | M13: =IF(AND(ISNUMBER(J13),ISNUMBER(L13)),IF(J13=0,"",L13/J13),"")
J14: =IF(B14="","",IF(AND(ISNUMBER(G14),G14>0,ISNUMBER(H14),H14>=0),G14*H14,"Missing cost")) | K14: =IF(B14="","",IF(AND(ISNUMBER(G14),G14>0,ISNUMBER(I14),I14>0),G14*I14,"Missing value")) | L14: =IF(B14="","",IF(AND(ISNUMBER(J14),ISNUMBER(K14)),K14-J14,"Missing inputs")) | M14: =IF(AND(ISNUMBER(J14),ISNUMBER(L14)),IF(J14=0,"",L14/J14),"")
J15: =IF(B15="","",IF(AND(ISNUMBER(G15),G15>0,ISNUMBER(H15),H15>=0),G15*H15,"Missing cost")) | K15: =IF(B15="","",IF(AND(ISNUMBER(G15),G15>0,ISNUMBER(I15),I15>0),G15*I15,"Missing value")) | L15: =IF(B15="","",IF(AND(ISNUMBER(J15),ISNUMBER(K15)),K15-J15,"Missing inputs")) | M15: =IF(AND(ISNUMBER(J15),ISNUMBER(L15)),IF(J15=0,"",L15/J15),"")
J16: =IF(B16="","",IF(AND(ISNUMBER(G16),G16>0,ISNUMBER(H16),H16>=0),G16*H16,"Missing cost")) | K16: =IF(B16="","",IF(AND(ISNUMBER(G16),G16>0,ISNUMBER(I16),I16>0),G16*I16,"Missing value")) | L16: =IF(B16="","",IF(AND(ISNUMBER(J16),ISNUMBER(K16)),K16-J16,"Missing inputs")) | M16: =IF(AND(ISNUMBER(J16),ISNUMBER(L16)),IF(J16=0,"",L16/J16),"")
J17: =IF(B17="","",IF(AND(ISNUMBER(G17),G17>0,ISNUMBER(H17),H17>=0),G17*H17,"Missing cost")) | K17: =IF(B17="","",IF(AND(ISNUMBER(G17),G17>0,ISNUMBER(I17),I17>0),G17*I17,"Missing value")) | L17: =IF(B17="","",IF(AND(ISNUMBER(J17),ISNUMBER(K17)),K17-J17,"Missing inputs")) | M17: =IF(AND(ISNUMBER(J17),ISNUMBER(L17)),IF(J17=0,"",L17/J17),"")
... J25: =IF(B25="","",IF(AND(ISNUMBER(G25),G25>0,ISNUMBER(H25),H25>=0),G25*H25,"Missing cost")) | K25: =IF(B25="","",IF(AND(ISNUMBER(G25),G25>0,ISNUMBER(I25),I25>0),G25*I25,"Missing value")) | L25: =IF(B25="","",IF(AND(ISNUMBER(J25),ISNUMBER(K25)),K25-J25,"Missing inputs")) | M25: =IF(AND(ISNUMBER(J25),ISNUMBER(L25)),IF(J25=0,"",L25/J25),"")

Sheet Summary
B2: Collection Summary
B3: Reads the Collection sheet - never type here.
B5: Totals | E5: Set | F5: Copies | G5: Value ($)
B6: Copies owned | C6: =SUM(Collection!$G$6:$G$25) -> 11 | E6: Base Set | F6: =SUMIF(Collection!$C$6:$C$25,E6,Collection!$G$6:$G$25) -> 1 | G6: =IF(COUNTIFS(Collection!$C$6:$C$25,E6,Collection!$K$6:$K$25,"Missing value")>0,"Missing values",SUMIF(Collection!$C$6:$C$25,E6,Collection!$K$6:$K$25))
B7: Total cost ($) | C7: =IF(COUNTIF(Collection!$B$6:$B$25,"<>")<>COUNT(Collection!$J$6:$J$25),"Missing cost",SUM(Collection!$J$6:$J$25)) | E7: Evolving Skies | F7: =SUMIF(Collection!$C$6:$C$25,E7,Collection!$G$6:$G$25) -> 2 | G7: =IF(COUNTIFS(Collection!$C$6:$C$25,E7,Collection!$K$6:$K$25,"Missing value")>0,"Missing values",SUMIF(Collection!$C$6:$C$25,E7,Collection!$K$6:$K$25))
B8: Total value ($) | C8: =IF(COUNTIF(Collection!$B$6:$B$25,"<>")<>COUNT(Collection!$K$6:$K$25),"Missing values",SUM(Collection!$K$6:$K$25)) | E8: Paldea Evolved | F8: =SUMIF(Collection!$C$6:$C$25,E8,Collection!$G$6:$G$25) -> 2 | G8: =IF(COUNTIFS(Collection!$C$6:$C$25,E8,Collection!$K$6:$K$25,"Missing value")>0,"Missing values",SUMIF(Collection!$C$6:$C$25,E8,Collection!$K$6:$K$25))
B9: Entered value less cost ($) | C9: =IF(AND(ISNUMBER(C7),ISNUMBER(C8)),C8-C7,"Missing inputs") | E9: Crown Zenith | F9: =SUMIF(Collection!$C$6:$C$25,E9,Collection!$G$6:$G$25) -> 1 | G9: =IF(COUNTIFS(Collection!$C$6:$C$25,E9,Collection!$K$6:$K$25,"Missing value")>0,"Missing values",SUMIF(Collection!$C$6:$C$25,E9,Collection!$K$6:$K$25))
B10: Difference / cost | C10: =IF(AND(ISNUMBER(C7),ISNUMBER(C9)),IF(C7=0,"",C9/C7),"") | E10: Silver Tempest | F10: =SUMIF(Collection!$C$6:$C$25,E10,Collection!$G$6:$G$25) -> 1 | G10: =IF(COUNTIFS(Collection!$C$6:$C$25,E10,Collection!$K$6:$K$25,"Missing value")>0,"Missing values",SUMIF(Collection!$C$6:$C$25,E10,Collection!$K$6:$K$25))
B11: Highlights | E11: Fusion Strike | F11: =SUMIF(Collection!$C$6:$C$25,E11,Collection!$G$6:$G$25) -> 1 | G11: =IF(COUNTIFS(Collection!$C$6:$C$25,E11,Collection!$K$6:$K$25,"Missing value")>0,"Missing values",SUMIF(Collection!$C$6:$C$25,E11,Collection!$K$6:$K$25))
B12: Most valuable card | C12: =IF(COUNT(Collection!$K$6:$K$25)=0,"",INDEX(Collection!$B$6:$B$25,MATCH(MAX(Collection!$K$6:$K$25),Collection!$K$6:$K$25,0))) | E12: 151 | F12: =SUMIF(Collection!$C$6:$C$25,E12,Collection!$G$6:$G$25) -> 3 | G12: =IF(COUNTIFS(Collection!$C$6:$C$25,E12,Collection!$K$6:$K$25,"Missing value")>0,"Missing values",SUMIF(Collection!$C$6:$C$25,E12,Collection!$K$6:$K$25))
B13: Its value ($) | C13: =IF(COUNT(Collection!$K$6:$K$25)=0,"",MAX(Collection!$K$6:$K$25)) | E13: Tip: add a row here when you add a new set.
B14: Largest difference / cost | C14: =IF(COUNT(Collection!$M$6:$M$25)=0,"",INDEX(Collection!$B$6:$B$25,MATCH(MAX(Collection!$M$6:$M$25),Collection!$M$6:$M$25,0)))
B15: Difference / cost | C15: =IF(COUNT(Collection!$M$6:$M$25)=0,"",MAX(Collection!$M$6:$M$25))
